Package: MACSQuantifyR Version: 1.22.0 Command: rm -rf MACSQuantifyR.buildbin-libdir && mkdir MACSQuantifyR.buildbin-libdir && /Users/biocbuild/BBS/utils/build-universal.sh MACSQuantifyR_1.22.0.tar.gz /Library/Frameworks/R.framework/Resources/bin/R MACSQuantifyR.buildbin-libdir StartedAt: 2025-09-26 14:46:28 -0400 (Fri, 26 Sep 2025) EndedAt: 2025-09-26 14:46:52 -0400 (Fri, 26 Sep 2025) EllapsedTime: 24.5 seconds RetCode: 0 Status: OK PackageFile: MACSQuantifyR_1.22.0.tgz PackageFileSize: 4.466 MiB