Package: M3Drop Version: 1.36.0 Command: /Library/Frameworks/R.framework/Resources/bin/R CMD INSTALL M3Drop StartedAt: 2025-11-03 15:53:26 -0500 (Mon, 03 Nov 2025) EndedAt: 2025-11-03 15:53:50 -0500 (Mon, 03 Nov 2025) EllapsedTime: 23.6 seconds RetCode: 0 Status: OK