Package: M3Drop Version: 1.36.0 Command: /Library/Frameworks/R.framework/Resources/bin/R CMD build --keep-empty-dirs --no-resave-data M3Drop StartedAt: 2025-11-03 17:34:49 -0500 (Mon, 03 Nov 2025) EndedAt: 2025-11-03 17:37:27 -0500 (Mon, 03 Nov 2025) EllapsedTime: 157.8 seconds RetCode: 0 Status: OK PackageFile: M3Drop_1.36.0.tar.gz PackageFileSize: 12.25 MiB