Package: M3Drop Version: 1.36.0 Command: rm -rf M3Drop.buildbin-libdir && mkdir M3Drop.buildbin-libdir && /Users/biocbuild/BBS/utils/build-universal.sh M3Drop_1.36.0.tar.gz /Library/Frameworks/R.framework/Resources/bin/R M3Drop.buildbin-libdir StartedAt: 2025-11-04 01:47:38 -0500 (Tue, 04 Nov 2025) EndedAt: 2025-11-04 01:48:05 -0500 (Tue, 04 Nov 2025) EllapsedTime: 26.9 seconds RetCode: 0 Status: OK PackageFile: M3Drop_1.36.0.tgz PackageFileSize: 12.5 MiB