Package: M3C Version: 1.32.0 Command: /home/biocbuild/R/R/bin/R CMD build --keep-empty-dirs --no-resave-data M3C StartedAt: 2025-11-14 02:52:56 -0000 (Fri, 14 Nov 2025) EndedAt: 2025-11-14 02:53:55 -0000 (Fri, 14 Nov 2025) EllapsedTime: 59.0 seconds RetCode: 0 Status: OK PackageFile: M3C_1.32.0.tar.gz PackageFileSize: 580.7 KiB