Package: M3C Version: 1.30.0 Command: /home/biocbuild/bbs-3.21-bioc/R/bin/R CMD INSTALL M3C StartedAt: 2025-10-01 15:13:41 -0400 (Wed, 01 Oct 2025) EndedAt: 2025-10-01 15:13:55 -0400 (Wed, 01 Oct 2025) EllapsedTime: 13.8 seconds RetCode: 0 Status: OK