Package: M3C Version: 1.30.0 Command: /home/biocbuild/bbs-3.21-bioc/R/bin/R CMD build --keep-empty-dirs --no-resave-data M3C StartedAt: 2025-10-01 18:19:20 -0400 (Wed, 01 Oct 2025) EndedAt: 2025-10-01 18:20:06 -0400 (Wed, 01 Oct 2025) EllapsedTime: 46.0 seconds RetCode: 0 Status: OK PackageFile: M3C_1.30.0.tar.gz PackageFileSize: 590.3 KiB