Package: LymphoSeq Version: 1.38.0 Command: /home/biocbuild/bbs-3.22-bioc/R/bin/R CMD INSTALL LymphoSeq StartedAt: 2025-11-11 15:40:46 -0500 (Tue, 11 Nov 2025) EndedAt: 2025-11-11 15:41:05 -0500 (Tue, 11 Nov 2025) EllapsedTime: 18.5 seconds RetCode: 0 Status: OK