Package: LymphoSeq Version: 1.38.0 Command: /home/biocbuild/bbs-3.22-bioc/R/bin/R CMD build --keep-empty-dirs --no-resave-data --md5 LymphoSeq StartedAt: 2025-11-11 18:30:06 -0500 (Tue, 11 Nov 2025) EndedAt: 2025-11-11 18:31:12 -0500 (Tue, 11 Nov 2025) EllapsedTime: 66.1 seconds RetCode: 0 Status: OK PackageFile: LymphoSeq_1.38.0.tar.gz PackageFileSize: 2.242 MiB