Package: LymphoSeq Version: 1.36.0 Command: /home/biocbuild/bbs-3.21-bioc/R/bin/R CMD build --keep-empty-dirs --no-resave-data LymphoSeq StartedAt: 2025-10-15 18:14:55 -0400 (Wed, 15 Oct 2025) EndedAt: 2025-10-15 18:15:56 -0400 (Wed, 15 Oct 2025) EllapsedTime: 61.1 seconds RetCode: 0 Status: OK PackageFile: LymphoSeq_1.36.0.tar.gz PackageFileSize: 2.238 MiB