Package: LymphoSeq Version: 1.36.0 Command: /home/biocbuild/R/R/bin/R CMD INSTALL LymphoSeq StartedAt: 2025-10-02 20:57:09 -0000 (Thu, 02 Oct 2025) EndedAt: 2025-10-02 20:57:35 -0000 (Thu, 02 Oct 2025) EllapsedTime: 25.3 seconds RetCode: 0 Status: OK