Package: LymphoSeq Version: 1.36.0 Command: /home/biocbuild/R/R/bin/R CMD build --keep-empty-dirs --no-resave-data LymphoSeq StartedAt: 2025-10-03 02:07:27 -0000 (Fri, 03 Oct 2025) EndedAt: 2025-10-03 02:08:49 -0000 (Fri, 03 Oct 2025) EllapsedTime: 82.0 seconds RetCode: 0 Status: OK PackageFile: LymphoSeq_1.36.0.tar.gz PackageFileSize: 2.177 MiB