Package: LymphoSeq Version: 1.36.0 Command: /Library/Frameworks/R.framework/Resources/bin/R CMD INSTALL LymphoSeq StartedAt: 2025-10-13 15:59:59 -0400 (Mon, 13 Oct 2025) EndedAt: 2025-10-13 16:00:00 -0400 (Mon, 13 Oct 2025) EllapsedTime: 1.2 seconds RetCode: 1 Status: ERROR