############################################################################## ############################################################################## ### ### Running command: ### ### /Library/Frameworks/R.framework/Resources/bin/R CMD build --keep-empty-dirs --no-resave-data LymphoSeq ### ############################################################################## ############################################################################## * checking for file ‘LymphoSeq/DESCRIPTION’ ... OK * preparing ‘LymphoSeq’: * checking DESCRIPTION meta-information ... OK * installing the package to build vignettes ----------------------------------- ERROR: dependency ‘msa’ is not available for package ‘LymphoSeq’ Perhaps try a variation of: install.packages('msa') * removing ‘/private/tmp/RtmpWF85LC/Rinstdbf237a5085e/LymphoSeq’ ----------------------------------- ERROR: package installation failed