Package: LymphoSeq Version: 1.38.0 Maintainer: David Coffey MaintainerEmail: dcoffey at fredhutch.org git_url: https://git.bioconductor.org/packages/LymphoSeq git_branch: RELEASE_3_22 git_last_commit: d69e717 git_last_commit_date: 2025-10-29 10:31:49 -0400 (Wed, 29 Oct 2025)