Package: LoomExperiment Version: 1.28.0 Command: /home/biocbuild/bbs-3.22-bioc/R/bin/R CMD INSTALL LoomExperiment StartedAt: 2025-11-13 15:25:05 -0500 (Thu, 13 Nov 2025) EndedAt: 2025-11-13 15:25:33 -0500 (Thu, 13 Nov 2025) EllapsedTime: 28.3 seconds RetCode: 0 Status: OK