Package: LoomExperiment Version: 1.28.0 Command: /home/biocbuild/bbs-3.22-bioc/R/bin/R CMD build --keep-empty-dirs --no-resave-data --md5 LoomExperiment StartedAt: 2025-11-13 18:27:41 -0500 (Thu, 13 Nov 2025) EndedAt: 2025-11-13 18:28:26 -0500 (Thu, 13 Nov 2025) EllapsedTime: 45.1 seconds RetCode: 0 Status: OK PackageFile: LoomExperiment_1.28.0.tar.gz PackageFileSize: 253.7 KiB