Package: LoomExperiment Version: 1.28.0 Command: /Library/Frameworks/R.framework/Resources/bin/R CMD INSTALL LoomExperiment StartedAt: 2025-11-03 15:15:07 -0500 (Mon, 03 Nov 2025) EndedAt: 2025-11-03 15:15:18 -0500 (Mon, 03 Nov 2025) EllapsedTime: 11.3 seconds RetCode: 0 Status: OK