Package: LoomExperiment Version: 1.28.0 Command: /Library/Frameworks/R.framework/Resources/bin/R CMD build --keep-empty-dirs --no-resave-data LoomExperiment StartedAt: 2025-10-31 16:55:06 -0400 (Fri, 31 Oct 2025) EndedAt: 2025-10-31 16:55:24 -0400 (Fri, 31 Oct 2025) EllapsedTime: 18.2 seconds RetCode: 0 Status: OK PackageFile: LoomExperiment_1.28.0.tar.gz PackageFileSize: 252.9 KiB