Package: LoomExperiment Version: 1.28.0 Command: rm -rf LoomExperiment.buildbin-libdir && mkdir LoomExperiment.buildbin-libdir && /Users/biocbuild/BBS/utils/build-universal.sh LoomExperiment_1.28.0.tar.gz /Library/Frameworks/R.framework/Resources/bin/R LoomExperiment.buildbin-libdir StartedAt: 2025-10-31 23:12:09 -0400 (Fri, 31 Oct 2025) EndedAt: 2025-10-31 23:12:22 -0400 (Fri, 31 Oct 2025) EllapsedTime: 12.3 seconds RetCode: 0 Status: OK PackageFile: LoomExperiment_1.28.0.tgz PackageFileSize: 873.3 KiB