Package: LiquidAssociation Version: 1.64.0 Command: /home/biocbuild/bbs-3.22-bioc/R/bin/R CMD build --keep-empty-dirs --no-resave-data --md5 LiquidAssociation StartedAt: 2025-11-11 18:29:01 -0500 (Tue, 11 Nov 2025) EndedAt: 2025-11-11 18:29:28 -0500 (Tue, 11 Nov 2025) EllapsedTime: 27.0 seconds RetCode: 0 Status: OK PackageFile: LiquidAssociation_1.64.0.tar.gz PackageFileSize: 286.4 KiB