Package: LipidTrend Version: 1.0.0 Command: /home/biocbuild/bbs-3.22-bioc/R/bin/R CMD INSTALL LipidTrend StartedAt: 2025-11-11 15:22:10 -0500 (Tue, 11 Nov 2025) EndedAt: 2025-11-11 15:22:35 -0500 (Tue, 11 Nov 2025) EllapsedTime: 24.8 seconds RetCode: 0 Status: OK