Package: Linnorm Version: 2.32.0 Command: /home/biocbuild/R/R/bin/R CMD INSTALL Linnorm StartedAt: 2025-10-13 20:22:05 -0000 (Mon, 13 Oct 2025) EndedAt: 2025-10-13 20:22:38 -0000 (Mon, 13 Oct 2025) EllapsedTime: 33.2 seconds RetCode: 0 Status: OK