Package: Linnorm Version: 2.34.0 Command: rm -rf Linnorm.buildbin-libdir && mkdir Linnorm.buildbin-libdir && /Users/biocbuild/BBS/utils/build-universal.sh Linnorm_2.34.0.tar.gz /Library/Frameworks/R.framework/Resources/bin/R Linnorm.buildbin-libdir StartedAt: 2025-11-10 23:25:02 -0500 (Mon, 10 Nov 2025) EndedAt: 2025-11-10 23:25:11 -0500 (Mon, 10 Nov 2025) EllapsedTime: 9.2 seconds RetCode: 0 Status: OK PackageFile: Linnorm_2.34.0.tgz PackageFileSize: 4.311 MiB