Package: LinkHD Version: 1.22.0 Command: /home/biocbuild/R/R/bin/R CMD INSTALL LinkHD StartedAt: 2025-10-13 20:37:09 -0000 (Mon, 13 Oct 2025) EndedAt: 2025-10-13 20:37:50 -0000 (Mon, 13 Oct 2025) EllapsedTime: 40.5 seconds RetCode: 0 Status: OK