Package: LinkHD Version: 1.22.0 Command: /home/biocbuild/R/R/bin/R CMD build --keep-empty-dirs --no-resave-data LinkHD StartedAt: 2025-10-14 02:00:40 -0000 (Tue, 14 Oct 2025) EndedAt: 2025-10-14 02:02:08 -0000 (Tue, 14 Oct 2025) EllapsedTime: 88.0 seconds RetCode: 0 Status: OK PackageFile: LinkHD_1.22.0.tar.gz PackageFileSize: 2.401 MiB