Package: LinTInd Version: 1.14.0 Command: /home/biocbuild/bbs-3.22-bioc/R/bin/R CMD build --keep-empty-dirs --no-resave-data --md5 LinTInd StartedAt: 2025-11-11 18:28:42 -0500 (Tue, 11 Nov 2025) EndedAt: 2025-11-11 18:29:08 -0500 (Tue, 11 Nov 2025) EllapsedTime: 26.0 seconds RetCode: 1 Status: ERROR PackageFile: None PackageFileSize: NA