Package: LinTInd Version: 1.12.0 Command: /home/biocbuild/bbs-3.21-bioc/R/bin/R CMD INSTALL LinTInd StartedAt: 2025-10-15 15:50:09 -0400 (Wed, 15 Oct 2025) EndedAt: 2025-10-15 15:50:26 -0400 (Wed, 15 Oct 2025) EllapsedTime: 16.9 seconds RetCode: 0 Status: OK