Package: LinTInd Version: 1.12.0 Command: /home/biocbuild/bbs-3.21-bioc/R/bin/R CMD build --keep-empty-dirs --no-resave-data LinTInd StartedAt: 2025-10-15 18:13:57 -0400 (Wed, 15 Oct 2025) EndedAt: 2025-10-15 18:14:44 -0400 (Wed, 15 Oct 2025) EllapsedTime: 47.1 seconds RetCode: 0 Status: OK PackageFile: LinTInd_1.12.0.tar.gz PackageFileSize: 1.533 MiB