Package: LinTInd Version: 1.12.0 Command: /Library/Frameworks/R.framework/Resources/bin/R CMD INSTALL LinTInd StartedAt: 2025-10-13 18:00:49 -0400 (Mon, 13 Oct 2025) EndedAt: 2025-10-13 18:01:10 -0400 (Mon, 13 Oct 2025) EllapsedTime: 20.7 seconds RetCode: 0 Status: OK