Package: LimROTS Version: 1.2.0 Command: /Library/Frameworks/R.framework/Resources/bin/R CMD INSTALL LimROTS StartedAt: 2025-11-10 15:28:24 -0500 (Mon, 10 Nov 2025) EndedAt: 2025-11-10 15:28:34 -0500 (Mon, 10 Nov 2025) EllapsedTime: 10.6 seconds RetCode: 0 Status: OK