Package: LimROTS Version: 1.2.0 Command: /Library/Frameworks/R.framework/Resources/bin/R CMD build --keep-empty-dirs --no-resave-data LimROTS StartedAt: 2025-11-10 16:51:05 -0500 (Mon, 10 Nov 2025) EndedAt: 2025-11-10 16:51:38 -0500 (Mon, 10 Nov 2025) EllapsedTime: 32.4 seconds RetCode: 0 Status: OK PackageFile: LimROTS_1.2.0.tar.gz PackageFileSize: 774.6 KiB