Package: LimROTS Version: 1.2.0 Command: rm -rf LimROTS.buildbin-libdir && mkdir LimROTS.buildbin-libdir && /Users/biocbuild/BBS/utils/build-universal.sh LimROTS_1.2.0.tar.gz /Library/Frameworks/R.framework/Resources/bin/R LimROTS.buildbin-libdir StartedAt: 2025-11-10 23:24:59 -0500 (Mon, 10 Nov 2025) EndedAt: 2025-11-10 23:25:10 -0500 (Mon, 10 Nov 2025) EllapsedTime: 11.2 seconds RetCode: 0 Status: OK PackageFile: LimROTS_1.2.0.tgz PackageFileSize: 836.7 KiB