Package: Lheuristic Version: 1.2.0 Command: /home/biocbuild/bbs-3.22-bioc/R/bin/R CMD INSTALL Lheuristic StartedAt: 2025-11-13 15:25:09 -0500 (Thu, 13 Nov 2025) EndedAt: 2025-11-13 15:25:36 -0500 (Thu, 13 Nov 2025) EllapsedTime: 26.9 seconds RetCode: 0 Status: OK