Package: Lheuristic Version: 1.2.0 Command: /Library/Frameworks/R.framework/Resources/bin/R CMD build --keep-empty-dirs --no-resave-data Lheuristic StartedAt: 2025-11-10 16:50:53 -0500 (Mon, 10 Nov 2025) EndedAt: 2025-11-10 16:51:11 -0500 (Mon, 10 Nov 2025) EllapsedTime: 17.2 seconds RetCode: 0 Status: OK PackageFile: Lheuristic_1.2.0.tar.gz PackageFileSize: 608.8 KiB