Package: Lheuristic Version: 1.2.0 Command: rm -rf Lheuristic.buildbin-libdir && mkdir Lheuristic.buildbin-libdir && /Users/biocbuild/BBS/utils/build-universal.sh Lheuristic_1.2.0.tar.gz /Library/Frameworks/R.framework/Resources/bin/R Lheuristic.buildbin-libdir StartedAt: 2025-11-10 23:24:57 -0500 (Mon, 10 Nov 2025) EndedAt: 2025-11-10 23:25:08 -0500 (Mon, 10 Nov 2025) EllapsedTime: 11.3 seconds RetCode: 0 Status: OK PackageFile: Lheuristic_1.2.0.tgz PackageFileSize: 665.3 KiB