Package: LedPred Version: 1.44.0 Command: /home/biocbuild/R/R/bin/R CMD INSTALL LedPred StartedAt: 2025-11-17 21:15:22 -0000 (Mon, 17 Nov 2025) EndedAt: 2025-11-17 21:15:46 -0000 (Mon, 17 Nov 2025) EllapsedTime: 24.0 seconds RetCode: 0 Status: OK