Package: LedPred Version: 1.44.0 Command: /home/biocbuild/bbs-3.22-bioc/R/bin/R CMD INSTALL LedPred StartedAt: 2025-11-11 15:14:45 -0500 (Tue, 11 Nov 2025) EndedAt: 2025-11-11 15:14:58 -0500 (Tue, 11 Nov 2025) EllapsedTime: 13.7 seconds RetCode: 0 Status: OK