Package: LedPred Version: 1.42.0 Command: /home/biocbuild/bbs-3.21-bioc/R/bin/R CMD INSTALL LedPred StartedAt: 2025-10-12 15:10:27 -0400 (Sun, 12 Oct 2025) EndedAt: 2025-10-12 15:10:41 -0400 (Sun, 12 Oct 2025) EllapsedTime: 14.3 seconds RetCode: 0 Status: OK