Package: LedPred Version: 1.42.0 Command: /home/biocbuild/bbs-3.21-bioc/R/bin/R CMD build --keep-empty-dirs --no-resave-data LedPred StartedAt: 2025-10-12 18:11:50 -0400 (Sun, 12 Oct 2025) EndedAt: 2025-10-12 18:12:08 -0400 (Sun, 12 Oct 2025) EllapsedTime: 18.0 seconds RetCode: 0 Status: OK PackageFile: LedPred_1.42.0.tar.gz PackageFileSize: 1.464 MiB