Package: LedPred Version: 1.42.0 Command: /Library/Frameworks/R.framework/Resources/bin/R CMD build --keep-empty-dirs --no-resave-data LedPred StartedAt: 2025-10-14 03:06:49 -0400 (Tue, 14 Oct 2025) EndedAt: 2025-10-14 03:07:18 -0400 (Tue, 14 Oct 2025) EllapsedTime: 29.5 seconds RetCode: 0 Status: OK PackageFile: LedPred_1.42.0.tar.gz PackageFileSize: 1.463 MiB