Package: LedPred Version: 1.42.0 Command: rm -rf LedPred.buildbin-libdir && mkdir LedPred.buildbin-libdir && /Users/biocbuild/BBS/utils/build-universal.sh LedPred_1.42.0.tar.gz /Library/Frameworks/R.framework/Resources/bin/R LedPred.buildbin-libdir StartedAt: 2025-10-15 19:04:15 -0400 (Wed, 15 Oct 2025) EndedAt: 2025-10-15 19:04:34 -0400 (Wed, 15 Oct 2025) EllapsedTime: 18.3 seconds RetCode: 0 Status: OK PackageFile: LedPred_1.42.0.tgz PackageFileSize: 1.69 MiB