Package: LRcell Version: 1.18.0 Command: /home/biocbuild/R/R/bin/R CMD INSTALL LRcell StartedAt: 2025-11-24 21:43:04 -0000 (Mon, 24 Nov 2025) EndedAt: 2025-11-24 21:43:28 -0000 (Mon, 24 Nov 2025) EllapsedTime: 23.7 seconds RetCode: 0 Status: OK