Package: LRcell Version: 1.18.0 Command: /home/biocbuild/R/R/bin/R CMD build --keep-empty-dirs --no-resave-data LRcell StartedAt: 2025-11-25 02:42:43 -0000 (Tue, 25 Nov 2025) EndedAt: 2025-11-25 02:44:13 -0000 (Tue, 25 Nov 2025) EllapsedTime: 90.0 seconds RetCode: 0 Status: OK PackageFile: LRcell_1.18.0.tar.gz PackageFileSize: 728.1 KiB