Package: LRcell Version: 1.18.0 Command: /home/biocbuild/bbs-3.22-bioc/R/bin/R CMD INSTALL LRcell StartedAt: 2025-11-11 15:39:26 -0500 (Tue, 11 Nov 2025) EndedAt: 2025-11-11 15:39:43 -0500 (Tue, 11 Nov 2025) EllapsedTime: 16.8 seconds RetCode: 0 Status: OK