Package: LRcell Version: 1.18.0 Command: /home/biocbuild/bbs-3.22-bioc/R/bin/R CMD check --install=check:LRcell.install-out.txt --library=/home/biocbuild/bbs-3.22-bioc/R/site-library --timings LRcell_1.18.0.tar.gz StartedAt: 2025-11-12 01:03:20 -0500 (Wed, 12 Nov 2025) EndedAt: 2025-11-12 01:06:31 -0500 (Wed, 12 Nov 2025) EllapsedTime: 191.4 seconds RetCode: 0 Status: OK CheckDir: LRcell.Rcheck Warnings: 0