Package: LRcell Version: 1.16.0 Command: /Library/Frameworks/R.framework/Resources/bin/R CMD build --keep-empty-dirs --no-resave-data LRcell StartedAt: 2025-04-21 17:19:19 -0400 (Mon, 21 Apr 2025) EndedAt: 2025-04-21 17:20:40 -0400 (Mon, 21 Apr 2025) EllapsedTime: 81.3 seconds RetCode: 0 Status: OK PackageFile: LRcell_1.16.0.tar.gz PackageFileSize: 1.035 MiB