Package: LRcell Version: 1.16.0 Command: /Library/Frameworks/R.framework/Resources/bin/R CMD INSTALL LRcell StartedAt: 2025-10-09 15:58:33 -0400 (Thu, 09 Oct 2025) EndedAt: 2025-10-09 15:58:54 -0400 (Thu, 09 Oct 2025) EllapsedTime: 20.8 seconds RetCode: 0 Status: OK