Package: LRBaseDbi Version: 2.20.0 Command: /home/biocbuild/R/R/bin/R CMD INSTALL LRBaseDbi StartedAt: 2025-11-10 22:06:43 -0000 (Mon, 10 Nov 2025) EndedAt: 2025-11-10 22:06:59 -0000 (Mon, 10 Nov 2025) EllapsedTime: 15.8 seconds RetCode: 0 Status: OK