Package: LRBaseDbi Version: 2.20.0 Command: /home/biocbuild/R/R/bin/R CMD build --keep-empty-dirs --no-resave-data LRBaseDbi StartedAt: 2025-11-11 02:48:46 -0000 (Tue, 11 Nov 2025) EndedAt: 2025-11-11 02:49:20 -0000 (Tue, 11 Nov 2025) EllapsedTime: 34.0 seconds RetCode: 0 Status: OK PackageFile: LRBaseDbi_2.20.0.tar.gz PackageFileSize: 139 KiB